BEGIN:VCALENDAR
VERSION:2.0
PRODID:-//YLK Mentors - Yvette Karan - Inspiring you to get up and go - ECPv6.15.20//NONSGML v1.0//EN
CALSCALE:GREGORIAN
METHOD:PUBLISH
X-WR-CALNAME:YLK Mentors - Yvette Karan - Inspiring you to get up and go
X-ORIGINAL-URL:https://ylkmentors.com
X-WR-CALDESC:Events for YLK Mentors - Yvette Karan - Inspiring you to get up and go
REFRESH-INTERVAL;VALUE=DURATION:PT1H
X-Robots-Tag:noindex
X-PUBLISHED-TTL:PT1H
BEGIN:VTIMEZONE
TZID:Europe/London
BEGIN:DAYLIGHT
TZOFFSETFROM:+0000
TZOFFSETTO:+0100
TZNAME:BST
DTSTART:20240331T010000
END:DAYLIGHT
BEGIN:STANDARD
TZOFFSETFROM:+0100
TZOFFSETTO:+0000
TZNAME:GMT
DTSTART:20241027T010000
END:STANDARD
BEGIN:DAYLIGHT
TZOFFSETFROM:+0000
TZOFFSETTO:+0100
TZNAME:BST
DTSTART:20250330T010000
END:DAYLIGHT
BEGIN:STANDARD
TZOFFSETFROM:+0100
TZOFFSETTO:+0000
TZNAME:GMT
DTSTART:20251026T010000
END:STANDARD
BEGIN:DAYLIGHT
TZOFFSETFROM:+0000
TZOFFSETTO:+0100
TZNAME:BST
DTSTART:20260329T010000
END:DAYLIGHT
BEGIN:STANDARD
TZOFFSETFROM:+0100
TZOFFSETTO:+0000
TZNAME:GMT
DTSTART:20261025T010000
END:STANDARD
END:VTIMEZONE
BEGIN:VEVENT
DTSTART;TZID=Europe/London:20250816T093000
DTEND;TZID=Europe/London:20250816T133000
DTSTAMP:20260421T172548
CREATED:20240929T114106Z
LAST-MODIFIED:20260212T174254Z
UID:3021-1755336600-1755351000@ylkmentors.com
SUMMARY:Finding Your Resonance - Soul Note\, Flower Symbolism & Oracle
DESCRIPTION:Join us for a collaboration between Yvette Karan and two of the Ambassadors here at YLK Mentors: Rachel Petheram of Catkin Flowers and Ruth Karan of Journey Through Tarot.\n\n Finding Your Resonance is a workshop that uses symbolism and sound to help you understand where you are in life. Using the simple tools of sound\, flowers\, and oracle/tarot\, you will be able to connect with a deeper understanding of self through intuitive practice and the guidance of your three hosts.\n\n \n\n \n\nAs we flow through each section of the workshop\, you will discover the meditative qualities of sound and how it can be used to find your Soul Note; you will learn how to use your intuition to understand symbolism through Oracle cards; and you will connect with flowers\, immersed in the surroundings of Rachel’s garden studio\, to connect back to yourself.\n\n After the workshop\, you will be sent a reading of your individual Soul Note\, Oracle card\, and Flower picks\, each with a unique explanation of what it means to you with an interpretation written by this workshop’s hosts. Catered towards you\, this reading will be enriched with symbolism of your current journey in life\, of where you have been and the pathway that lies ahead.\n\nA workshop using the importance of sound and how it resonates with the body has been highly requested over the years. Yvette will be using the understanding of the chakras and resonant frequencies to explore the forces that are driving you forward\, embodied in your Soul Note. The world of sound and vibrations has been commonly explored in connection with brain waves\, meditative states\, and levels of consciousness. With every living thing vibrating at its own frequency\, it is no wonder that sound can be used to further explore our own inner selves\, as well as the journey through life we are all taking. What is pulling you? What is driving you forward? What are you afraid of? The direction of our lives has an energy of its own in concordance with the energy of our chakras\, our minds and our bodies. By interacting with sound\, using sound bowls and meditation\, you will be given the opportunity to discover your own Soul Note.\n[trx_button type=”square” style=”default” size=”small” color=”#FFFFFF” bg_color=”#6AAEC4″ link=”https://ylkmentors.com/product/finding-your-resonance-soul-note-flower-symbolism-oracle-august-16th-2025/” popup=”no” top=”inherit” bottom=”inherit” left=”inherit” right=”inherit”]Book Your Place Now [/trx_button] \n Flowers have a beautiful way of helping us to understand where we might be stuck and how we can move forward. They have their own unique energetic signature that resonates with you and so the individual flowers you choose have meaning – you are drawn to them for a reason. There is a deep natural sense of symbolism in flowers\, present in their growth and biological make-up\, but also in how we as humans interact with the world around us. Flowers from Rachel’s cutting garden will be used to help you to find what is resonating with you\, where you are blocked and how you can grow.\n\n \n\n \n\n \n\nWith Ruth Karan\, you will be guided through the understandings of Oracle/Tarot and how the cards can be used for self-reflection and self-development within your own current journey. Tarot is a useful tool when used in tandem with your intuition\, seeped in symbolism and imagery that allows you to dig deeper into the unconscious and subconscious minds.\n\nStood at the crossroads between past\, present\, and future\, Tarot helps you to understand all facets of your life\, emotionally\, mentally\, physically\, and spiritually\, from what has come before to what you can action now for the future.\n\nYou will be guided through an intuitive practice of Tarot and how to interpret the cards in front of you.\n\n \n[trx_button type=”square” style=”default” size=”small” color=”#FFFFFF” bg_color=”#6AAEC4″ link=”https://ylkmentors.com/product/finding-your-resonance-soul-note-flower-symbolism-oracle-august-16th-2025/” popup=”no” top=”inherit” bottom=”inherit” left=”inherit” right=”inherit”]Book Your Place Now [/trx_button] \nIf you have any questions or need to pay with instalments contact us   HERE 
URL:https://ylkmentors.com/event/finding-your-resonance-soul-note-flower-symbolism-oracle-3/
LOCATION:Doddington\, Lincoln at Catkinflowers
ORGANIZER;CN="YLK Mentors":MAILTO:info@ylkmentors.com
END:VEVENT
END:VCALENDAR