BEGIN:VCALENDAR
VERSION:2.0
PRODID:-//YLK Mentors - Yvette Karan - Inspiring you to get up and go - ECPv6.15.20//NONSGML v1.0//EN
CALSCALE:GREGORIAN
METHOD:PUBLISH
X-WR-CALNAME:YLK Mentors - Yvette Karan - Inspiring you to get up and go
X-ORIGINAL-URL:https://ylkmentors.com
X-WR-CALDESC:Events for YLK Mentors - Yvette Karan - Inspiring you to get up and go
REFRESH-INTERVAL;VALUE=DURATION:PT1H
X-Robots-Tag:noindex
X-PUBLISHED-TTL:PT1H
BEGIN:VTIMEZONE
TZID:Europe/London
BEGIN:DAYLIGHT
TZOFFSETFROM:+0000
TZOFFSETTO:+0100
TZNAME:BST
DTSTART:20240331T010000
END:DAYLIGHT
BEGIN:STANDARD
TZOFFSETFROM:+0100
TZOFFSETTO:+0000
TZNAME:GMT
DTSTART:20241027T010000
END:STANDARD
BEGIN:DAYLIGHT
TZOFFSETFROM:+0000
TZOFFSETTO:+0100
TZNAME:BST
DTSTART:20250330T010000
END:DAYLIGHT
BEGIN:STANDARD
TZOFFSETFROM:+0100
TZOFFSETTO:+0000
TZNAME:GMT
DTSTART:20251026T010000
END:STANDARD
BEGIN:DAYLIGHT
TZOFFSETFROM:+0000
TZOFFSETTO:+0100
TZNAME:BST
DTSTART:20260329T010000
END:DAYLIGHT
BEGIN:STANDARD
TZOFFSETFROM:+0100
TZOFFSETTO:+0000
TZNAME:GMT
DTSTART:20261025T010000
END:STANDARD
END:VTIMEZONE
BEGIN:VEVENT
DTSTART;TZID=Europe/London:20251012T103000
DTEND;TZID=Europe/London:20251012T120000
DTSTAMP:20260421T141540
CREATED:20250818T151529Z
LAST-MODIFIED:20260212T173927Z
UID:3673-1760265000-1760270400@ylkmentors.com
SUMMARY:Reiki Masterclass: Symbolism & Interpretation
DESCRIPTION:Reiki Masterclass: Symbolism & Interpretation\n\n\n\nThis is an ONLINE course taking place over multiple online sessions. If you would like to pay in instalments\, contact us HERE.\n\n\n\nWith collaboration between Reiki Masters Yvette Karan and Ruth Karan\, this course will take you on a deep dive into symbolism and how it can be used to help you interpret impressions from the Reiki energy. \n\n\n\nThere is symbolic meaning entrenched in almost every aspect of our daily lives\, from the birds that visit our gardens\, the daily change in weather\, to the buildings that populate our spaces\, or the tools we use to create\, there is a symbol for almost anything. Whether these symbols have been formed through history\, culture\, folklore\, or tradition\, the rich complex meanings that have been attributed to these different concepts littered throughout our lives can sometimes allude us. As you go through life\, your own history or folklore may inform you of so much – a bird’s feather may\, for example\, symbolise a lost loved one\, or the sun the life that grows across our earth – but there is also much more to learn. \n\n\n\n\nBook Now\n\n\n\n\nThis Masterclass will not only help you to examine the common symbols that arise in Reiki\, but also help you to strengthen your own abilities in identifying and interpreting the sensations or impressions you may receive through Reiki. Whilst there is not one singular understanding of symbols taught through the Reiki tradition\, there is much to learn from the historical understanding of symbols\, giving respect to different cultures\, the use of symbolism in art\, or even our own individual experiences that have created symbolic meaning for us. \n\n\n\nThis Masterclass is designed to give you an introduction to symbols and how they work in Reiki\, helping you to develop the tools to interpret what you sense with confidence and an open mind. You will also be given the opportunity to begin your very own Reiki journal or book of symbols that will guide you in your future practice. \n\n\n\nOctober 12th & October 19th  |  10.30am-12.00pm. \n\n\n\nThis is an online course taking place over multiple sessions. You will receive further instructions on how to join the course upon payment. You will be able to keep the recordings of these online sessions\, so that you can rewatch whenever you need or in case you miss out on the dates listed. Attendance is encouraged.
URL:https://ylkmentors.com/event/reiki-masterclass-symbolism-interpretation-2/
LOCATION:Online Event: online session(s) via Zoom. More information will be sent to you.
CATEGORIES:Reiki Masterclasses
ATTACH;FMTTYPE=image/png:https://ylkmentors.com/wp-content/uploads/2026/02/Untitled-Design-12.png
END:VEVENT
END:VCALENDAR