BEGIN:VCALENDAR
VERSION:2.0
PRODID:-//YLK Mentors - Yvette Karan - Inspiring you to get up and go - ECPv6.15.20//NONSGML v1.0//EN
CALSCALE:GREGORIAN
METHOD:PUBLISH
X-WR-CALNAME:YLK Mentors - Yvette Karan - Inspiring you to get up and go
X-ORIGINAL-URL:https://ylkmentors.com
X-WR-CALDESC:Events for YLK Mentors - Yvette Karan - Inspiring you to get up and go
REFRESH-INTERVAL;VALUE=DURATION:PT1H
X-Robots-Tag:noindex
X-PUBLISHED-TTL:PT1H
BEGIN:VTIMEZONE
TZID:Europe/London
BEGIN:DAYLIGHT
TZOFFSETFROM:+0000
TZOFFSETTO:+0100
TZNAME:BST
DTSTART:20240331T010000
END:DAYLIGHT
BEGIN:STANDARD
TZOFFSETFROM:+0100
TZOFFSETTO:+0000
TZNAME:GMT
DTSTART:20241027T010000
END:STANDARD
BEGIN:DAYLIGHT
TZOFFSETFROM:+0000
TZOFFSETTO:+0100
TZNAME:BST
DTSTART:20250330T010000
END:DAYLIGHT
BEGIN:STANDARD
TZOFFSETFROM:+0100
TZOFFSETTO:+0000
TZNAME:GMT
DTSTART:20251026T010000
END:STANDARD
BEGIN:DAYLIGHT
TZOFFSETFROM:+0000
TZOFFSETTO:+0100
TZNAME:BST
DTSTART:20260329T010000
END:DAYLIGHT
BEGIN:STANDARD
TZOFFSETFROM:+0100
TZOFFSETTO:+0000
TZNAME:GMT
DTSTART:20261025T010000
END:STANDARD
END:VTIMEZONE
BEGIN:VEVENT
DTSTART;TZID=Europe/London:20251130T100000
DTEND;TZID=Europe/London:20251130T120000
DTSTAMP:20260421T124902
CREATED:20251020T155800Z
LAST-MODIFIED:20251022T151450Z
UID:4046-1764496800-1764504000@ylkmentors.com
SUMMARY:Intuitive Eating: Being stress free around food at Christmastime - by Hattie Rees
DESCRIPTION:Intuitive Eating: Being stress free around food at Christmastime\n\n\n\nby Hattie Rees\n\n\n\nChristmas can be a joyous season for many\, but it can also be stressful when it comes to your relationship with food. Do you find yourself worrying about binge-eating or being around relatives who won’t stop talking about their latest diet and commenting on everyone’s weight? Or the feeling of knowing that by the end of Christmas the January guilt is going to set in? What if it didn’t have to be this way? \n\n\n\nIntuitive Eating is a framework with ten principles\, such as rejecting diet culture\, learning to tune in with your hunger and fullness signals\, and the importance of food satisfaction. It can be a useful tool in helping you to improve your relationship with food and feel confident within yourself. As an intuitive eater you can allow yourself to fully enjoy holiday periods such as Christmas without any stress when it comes to food. \n\n\n\nHattie is a Nutritionist\, Intuitive Eating Counsellor and Advanced Reiki Practitioner who is passionate about helping her clients ditch the dieting once and for all\, and feel happier within themselves in their relationship with food. Join Hattie for her two-hour workshop all about intuitive eating and navigating diet culture this party season. The workshop will involve the following topics: \n\n\n\n\nAvoiding the ‘Christmas binge’\n\n\n\nAn introduction to intuitive eating and how it can be useful at Christmas\n\n\n\nFeeling confident in your own skin throughout the party season\n\n\n\nTaking care of yourself and how to cope being around other’s dieting comments at Christmas\n\n\n\n\n\nBook Now
URL:https://ylkmentors.com/event/intuitive-eating-being-stress-free-around-food-at-christmastime/
LOCATION:Lincoln\, Lincoln\, Lincolnshire\, United Kingdom
CATEGORIES:Ambassador Events
ATTACH;FMTTYPE=image/jpeg:https://ylkmentors.com/wp-content/uploads/2025/10/Christmas-Workshop-photo-optimised-scaled.jpg
END:VEVENT
END:VCALENDAR