BEGIN:VCALENDAR
VERSION:2.0
PRODID:-//YLK Mentors - Yvette Karan - Inspiring you to get up and go - ECPv6.15.20//NONSGML v1.0//EN
CALSCALE:GREGORIAN
METHOD:PUBLISH
X-ORIGINAL-URL:https://ylkmentors.com
X-WR-CALDESC:Events for YLK Mentors - Yvette Karan - Inspiring you to get up and go
REFRESH-INTERVAL;VALUE=DURATION:PT1H
X-Robots-Tag:noindex
X-PUBLISHED-TTL:PT1H
BEGIN:VTIMEZONE
TZID:Europe/London
BEGIN:DAYLIGHT
TZOFFSETFROM:+0000
TZOFFSETTO:+0100
TZNAME:BST
DTSTART:20240331T010000
END:DAYLIGHT
BEGIN:STANDARD
TZOFFSETFROM:+0100
TZOFFSETTO:+0000
TZNAME:GMT
DTSTART:20241027T010000
END:STANDARD
BEGIN:DAYLIGHT
TZOFFSETFROM:+0000
TZOFFSETTO:+0100
TZNAME:BST
DTSTART:20250330T010000
END:DAYLIGHT
BEGIN:STANDARD
TZOFFSETFROM:+0100
TZOFFSETTO:+0000
TZNAME:GMT
DTSTART:20251026T010000
END:STANDARD
BEGIN:DAYLIGHT
TZOFFSETFROM:+0000
TZOFFSETTO:+0100
TZNAME:BST
DTSTART:20260329T010000
END:DAYLIGHT
BEGIN:STANDARD
TZOFFSETFROM:+0100
TZOFFSETTO:+0000
TZNAME:GMT
DTSTART:20261025T010000
END:STANDARD
END:VTIMEZONE
BEGIN:VEVENT
DTSTART;TZID=Europe/London:20250510T100000
DTEND;TZID=Europe/London:20250510T163000
DTSTAMP:20260421T204420
CREATED:20250131T164143Z
LAST-MODIFIED:20260212T174628Z
UID:3063-1746871200-1746894600@ylkmentors.com
SUMMARY:Reiki Masterclass: Advanced Techniques
DESCRIPTION:This an in-person event. If you would like to pay in instalments\, please contact us HERE.\n\nFor Reiki students and established Reiki practitioners\, this Masterclass will give you insight into unique advanced techniques so that you can develop your own practice and individual style. If you are looking for more hands-on application of your Reiki studies or deeper understandings on how to work with your clients\, then this masterclass is for you. With a well of knowledge given by Reiki Master Yvette Karan and physical space to practice and learn these techniques\, you will be able to further enrich your own knowledge and understanding as an aspiring or established Reiki practitioner.\n\n \n[trx_button type=”square” style=”default” size=”small” color=”#FFFFFF” bg_color=”#6AAEC4″ link=”https://ylkmentors.com/product/reiki-masterclass-advanced-techniques/” popup=”no” top=”inherit” bottom=”inherit” left=”inherit” right=”inherit”]Book Your Place Now [/trx_button] \n \n\nReiki Masterclass: Advanced Techniques aims to give you additional learning not traditionally taught in the Reiki courses offered here at YLK Mentors. This is a hands on course\, meaning there will be interactive participation\, and opportunities for you to practice the techniques taught throughout the day. You will be given the tools and guidance on how to work with your clients\, how to guide the energy practically within the environment of an appointment\, and learn how to build your confidence in working with your own style.\n\nIf you have any questions about this event or you are questioning whether this event is for you\, please get in touch.\n\n 
URL:https://ylkmentors.com/event/reiki-masterclass-advanced-techniques/
LOCATION:Lincolnshire
ATTACH;FMTTYPE=image/jpeg:https://ylkmentors.com/wp-content/uploads/2026/02/Reiki.jpg
ORGANIZER;CN="YLK Mentors":MAILTO:info@ylkmentors.com
END:VEVENT
END:VCALENDAR