BEGIN:VCALENDAR
VERSION:2.0
PRODID:-//YLK Mentors - Yvette Karan - Inspiring you to get up and go - ECPv6.15.20//NONSGML v1.0//EN
CALSCALE:GREGORIAN
METHOD:PUBLISH
X-ORIGINAL-URL:https://ylkmentors.com
X-WR-CALDESC:Events for YLK Mentors - Yvette Karan - Inspiring you to get up and go
REFRESH-INTERVAL;VALUE=DURATION:PT1H
X-Robots-Tag:noindex
X-PUBLISHED-TTL:PT1H
BEGIN:VTIMEZONE
TZID:Europe/London
BEGIN:DAYLIGHT
TZOFFSETFROM:+0000
TZOFFSETTO:+0100
TZNAME:BST
DTSTART:20240331T010000
END:DAYLIGHT
BEGIN:STANDARD
TZOFFSETFROM:+0100
TZOFFSETTO:+0000
TZNAME:GMT
DTSTART:20241027T010000
END:STANDARD
BEGIN:DAYLIGHT
TZOFFSETFROM:+0000
TZOFFSETTO:+0100
TZNAME:BST
DTSTART:20250330T010000
END:DAYLIGHT
BEGIN:STANDARD
TZOFFSETFROM:+0100
TZOFFSETTO:+0000
TZNAME:GMT
DTSTART:20251026T010000
END:STANDARD
BEGIN:DAYLIGHT
TZOFFSETFROM:+0000
TZOFFSETTO:+0100
TZNAME:BST
DTSTART:20260329T010000
END:DAYLIGHT
BEGIN:STANDARD
TZOFFSETFROM:+0100
TZOFFSETTO:+0000
TZNAME:GMT
DTSTART:20261025T010000
END:STANDARD
END:VTIMEZONE
BEGIN:VEVENT
DTSTART;TZID=Europe/London:20250601T113000
DTEND;TZID=Europe/London:20250601T130000
DTSTAMP:20260423T092325
CREATED:20190925T131825Z
LAST-MODIFIED:20260212T174454Z
UID:1828-1748777400-1748782800@ylkmentors.com
SUMMARY:Reiki Advanced: Level 3
DESCRIPTION:This is an ONLINE course taking place over multiple online sessions. The first session takes place on June 1st | 11.30am-1pm.  If you would like to pay in instalments\, contact us HERE. \nIf you are interested in this course as a REFRESHER and have already passed REIKI ADANCED: LEVEL 3\, then scroll down to see more information. \n \nReiki Advanced honours your relationship with the Reiki and the role your intuition plays in helping others. \nReiki Advanced is the next step in your Reiki Journey once you have completed the Reiki Two Level. It is a unique course that will deepen your connection and understanding of Reiki in order for you\, as possible practitioners\, to use Reiki more intuitively. If you are a qualified Practitioner\, this course will enable you to help your clients more profoundly\, strengthening your own role in helping others.\n\nThis online course takes place over multiple sessions. The first session is scheduled\, as per the time and date detailed at the top of this page\, and students will be able to contribute to the scheduling of subsequent sessions. All coursework must be completed in order to receive certification and students are therefore encouraged to take part in all online sessions. \n\n \n[trx_button type=”square” style=”default” size=”small” color=”#FFFFFF” bg_color=”#6AAEC4″ link=”https://ylkmentors.com/product/reiki-advanced-level-3/” popup=”no” top=”inherit” bottom=”inherit” left=”inherit” right=”inherit”]Let’s do it   [/trx_button] \n   \nYvette will share with you her skills and understandings of Reiki on a professional level that will guide you through what is truly needed for each individual client. She often brings in other students and her Ambassadors to share their experience with you to help deepen your connection.  The course teaches you more advanced skills for you to apply to your clients\, whether you are a practitioner or someone who prefers to help yourself and those around you. Reiki Advanced as a course is usually combined with a Reiki Master course; Yvette sees the importance of teaching them separately in order to deepen your understanding of Reiki prior to progressing to Reiki Master Level.\n\nDuring this course\, you will learn a more thorough understanding of the Reiki and how it interacts with ourselves. You will learn to connect to and read the body: mentally\, emotionally\, physically\, and spiritually. Skills will be taught that will help you to govern your own unique way in giving a full treatment and developing your own style. This is not just about hands on Reiki – its about connecting to someone through your intuition\, even when they are not in the same room as you.\n\n \nTake your next step\n[trx_button type=”square” style=”default” size=”small” color=”#FFFFFF” bg_color=”#6AAEC4″ link=”https://ylkmentors.com/product/reiki-advanced-level-3/” popup=”no” top=”inherit” bottom=”inherit” left=”inherit” right=”inherit”]Book Your Place Now [/trx_button] \n \nWanting a Refresher?\nIf you have already passed your Reiki Advanced: Level 3\, and received certification\, you can take this course again as a refresher. Discount is applied and you will be provided with all the usual course materials. For further details\, please click the link below to visit our Shop.\n\n\n\n \n[trx_button type=”square” style=”default” size=”small” color=”#FFFFFF” bg_color=”#6AAEC4″ link=”https://ylkmentors.com/product/reiki-advanced-level-3-refresher/” popup=”no” top=”inherit” bottom=”inherit” left=”inherit” right=”inherit”]Book Your Refresher [/trx_button] \n \n\nReiki as a discipline is a tool to not only help ourselves\, but to help others. The Reiki Advanced: Level 3 takes this one step further to bring importance to your intuition. These are concepts that pervade our everyday lives. Many of our Reiki students\, past and present\, return to our Reiki courses to gain a Refresher\, thereby developing their understanding and the depths it can reach.
URL:https://ylkmentors.com/event/reiki-advanced-2/
LOCATION:Lincolnshire
CATEGORIES:Reiki Courses
ATTACH;FMTTYPE=image/png:https://ylkmentors.com/wp-content/uploads/2026/02/Mirror.png
ORGANIZER;CN="YLK Mentors":MAILTO:info@ylkmentors.com
END:VEVENT
BEGIN:VEVENT
DTSTART;TZID=Europe/London:20250611T093000
DTEND;TZID=Europe/London:20250611T133000
DTSTAMP:20260423T092325
CREATED:20240317T182145Z
LAST-MODIFIED:20250120T172210Z
UID:2950-1749634200-1749648600@ylkmentors.com
SUMMARY:Finding Your Resonance - Soul Note\, Flower Symbolism & Oracle
DESCRIPTION:Join us for a collaboration between Yvette Karan and two of the Ambassadors here at YLK Mentors: Rachel Petheram of Catkin Flowers and Ruth Karan of Journey Through Tarot. \n Finding Your Resonance is a workshop that uses symbolism and sound to help you understand where you are in life. Using the simple tools of sound\, flowers\, and oracle/tarot\, you will be able to connect with a deeper understanding of self through intuitive practice and the guidance of your three hosts. \n  \n  \nAs we flow through each section of the workshop\, you will discover the meditative qualities of sound and how it can be used to find your Soul Note; you will learn how to use your intuition to understand symbolism through Oracle cards; and you will connect with flowers\, immersed in the surroundings of Rachel’s garden studio\, to connect back to yourself. \n After the workshop\, you will be sent a reading of your individual Soul Note\, Oracle card\, and Flower picks\, each with a unique explanation of what it means to you with an interpretation written by this workshop’s hosts. Catered towards you\, this reading will be enriched with symbolism of your current journey in life\, of where you have been and the pathway that lies ahead. \nA workshop using the importance of sound and how it resonates with the body has been highly requested over the years. Yvette will be using the understanding of the chakras and resonant frequencies to explore the forces that are driving you forward\, embodied in your Soul Note. The world of sound and vibrations has been commonly explored in connection with brain waves\, meditative states\, and levels of consciousness. With every living thing vibrating at its own frequency\, it is no wonder that sound can be used to further explore our own inner selves\, as well as the journey through life we are all taking. What is pulling you? What is driving you forward? What are you afraid of? The direction of our lives has an energy of its own in concordance with the energy of our chakras\, our minds and our bodies. By interacting with sound\, using sound bowls and meditation\, you will be given the opportunity to discover your own Soul Note. \n[trx_button type=”square” style=”default” size=”small” color=”#FFFFFF” bg_color=”#6AAEC4″ link=”https://ylkmentors.com/product/finding-your-resonance-soul-note-flower-symbolism-oracle-may-11th-2024/” popup=”no” top=”inherit” bottom=”inherit” left=”inherit” right=”inherit”]Book Your Place Now [/trx_button] \n  \nFlowers have a beautiful way of helping us to understand where we might be stuck and how we can move forward. They have their own unique energetic signature that resonates with you and so the individual flowers you choose have meaning – you are drawn to them for a reason. There is a deep natural sense of symbolism in flowers\, present in their growth and biological make-up\, but also in how we as humans interact with the world around us. Flowers from Rachel’s cutting garden will be used to help you to find what is resonating with you\, where you are blocked and how you can grow. \n  \n  \n  \nWith Ruth Karan\, you will be guided through the understandings of Oracle/Tarot and how the cards can be used for self-reflection and self-development within your own current journey. Tarot is a useful tool when used in tandem with your intuition\, seeped in symbolism and imagery that allows you to dig deeper into the unconscious and subconscious minds. \n  \nStood at the crossroads between past\, present\, and future\, Tarot helps you to understand all facets of your life\, emotionally\, mentally\, physically\, and spiritually\, from what has come before to what you can action now for the future. \nYou will be guided through an intuitive practice of Tarot and how to interpret the cards in front of you. \n  \n[trx_button type=”square” style=”default” size=”small” color=”#FFFFFF” bg_color=”#6AAEC4″ link=”https://ylkmentors.com/product/finding-your-resonance-soul-note-flower-symbolism-oracle-may-11th-2024/” popup=”no” top=”inherit” bottom=”inherit” left=”inherit” right=”inherit”]Book Your Place Now [/trx_button] \nIf you have any questions or need to pay with instalments contact us   HERE 
URL:https://ylkmentors.com/event/finding-your-resonance-soul-note-flower-symbolism-oracle-2/
LOCATION:Doddington\, Lincoln at Catkinflowers
ORGANIZER;CN="YLK Mentors":MAILTO:info@ylkmentors.com
END:VEVENT
END:VCALENDAR